BEGIN:VCALENDAR
VERSION:2.0
PRODID:-//Tukios.com/
BEGIN:VEVENT
UID:6c480eab-4bf9-4bc0-bd47-6108950090ba@www.moorheadfh.com
DTSTAMP:20260422T185445Z
DTSTART:20260428
SUMMARY:Interment
DESCRIPTION:
URL:https://www.moorheadfh.com/obituaries/timothy-light
LOCATION: 18056 US-175  Mabank TX 75147
GEO:32.3767271;-96.1253576
END:VEVENT
END:VCALENDAR