BEGIN:VCALENDAR
VERSION:2.0
PRODID:-//Tukios.com/
BEGIN:VEVENT
UID:dd82cb01-f986-4b82-8615-4d9d44f8f9ac@www.moorheadfh.com
DTSTAMP:20260422T185149Z
DTSTART:20260428T180000Z
DTEND:20260428T190000Z
SUMMARY:Funeral Service
DESCRIPTION:
URL:https://www.moorheadfh.com/obituaries/timothy-light
LOCATION: 750 E Main St  Gun Barrel City TX 75156
GEO:32.3313699;-96.1014748
END:VEVENT
END:VCALENDAR