BEGIN:VCALENDAR
VERSION:2.0
PRODID:-//Tukios.com/
BEGIN:VEVENT
UID:87e336c3-9d88-4012-93b9-e987273ff6a0@www.moorheadfh.com
DTSTAMP:20260422T185418Z
DTSTART:20260428T160000Z
DTEND:20260428T180000Z
SUMMARY:Visitation
DESCRIPTION:
URL:https://www.moorheadfh.com/obituaries/timothy-light
LOCATION: 750 E Main St  Gun Barrel City TX 75156
GEO:32.3313699;-96.1014748
END:VEVENT
END:VCALENDAR