BEGIN:VCALENDAR
VERSION:2.0
PRODID:-//Tukios.com/
BEGIN:VEVENT
UID:86e75164-0f0c-43d1-877b-4ad22edc7fa7@www.moorheadfh.com
DTSTAMP:20260425T000929Z
DTSTART:20260427T190000Z
DTEND:20260427T200000Z
SUMMARY:Rosary
DESCRIPTION:
URL:https://www.moorheadfh.com/obituaries/shirley-hamrick
LOCATION: 750 E Main St  Gun Barrel City TX 75156
GEO:32.3313699;-96.1014748
END:VEVENT
END:VCALENDAR