BEGIN:VCALENDAR
VERSION:2.0
PRODID:-//Tukios.com/
BEGIN:VEVENT
UID:810ebaeb-f7dd-4d07-9592-e8df404f6d6e@www.moorheadfh.com
DTSTAMP:20260421T015800Z
DTSTART:20260422T180000Z
DTEND:20260422T190000Z
SUMMARY:Graveside Service
DESCRIPTION:
URL:https://www.moorheadfh.com/obituaries/kenneth-springer-jr
LOCATION: 18056 US-175  Mabank TX 75147
GEO:32.3767271;-96.1253576
END:VEVENT
END:VCALENDAR